BEGIN:VCALENDAR
VERSION:2.0
PRODID:-//RCCG - GRACE COVENANT CENTER - ECPv6.15.13//NONSGML v1.0//EN
CALSCALE:GREGORIAN
METHOD:PUBLISH
X-ORIGINAL-URL:https://gracecovenantcenter.org
X-WR-CALDESC:Events for RCCG - GRACE COVENANT CENTER
REFRESH-INTERVAL;VALUE=DURATION:PT1H
X-Robots-Tag:noindex
X-PUBLISHED-TTL:PT1H
BEGIN:VTIMEZONE
TZID:UTC
BEGIN:STANDARD
TZOFFSETFROM:+0000
TZOFFSETTO:+0000
TZNAME:UTC
DTSTART:20230101T000000
END:STANDARD
END:VTIMEZONE
BEGIN:VEVENT
DTSTART;TZID=UTC:20241224T180000
DTEND;TZID=UTC:20241224T180000
DTSTAMP:20260422T095942
CREATED:20241217T131151Z
LAST-MODIFIED:20241217T200319Z
UID:10056-1735063200-1735063200@gracecovenantcenter.org
SUMMARY:Christmas Eve/Carol Service
DESCRIPTION:
URL:https://gracecovenantcenter.org/easter-celebration-service/christmas-eve-carol-service/
END:VEVENT
END:VCALENDAR